BEGIN:VCALENDAR
VERSION:2.0
PRODID:-//FEDERACIÓ ANDORRANA DE NATACIÓ - ECPv6.15.11//NONSGML v1.0//EN
CALSCALE:GREGORIAN
METHOD:PUBLISH
X-WR-CALNAME:FEDERACIÓ ANDORRANA DE NATACIÓ
X-ORIGINAL-URL:https://fan.ad
X-WR-CALDESC:Esdeveniments per FEDERACIÓ ANDORRANA DE NATACIÓ
REFRESH-INTERVAL;VALUE=DURATION:PT1H
X-Robots-Tag:noindex
X-PUBLISHED-TTL:PT1H
BEGIN:VTIMEZONE
TZID:UTC
BEGIN:STANDARD
TZOFFSETFROM:+0000
TZOFFSETTO:+0000
TZNAME:UTC
DTSTART:20240101T000000
END:STANDARD
END:VTIMEZONE
BEGIN:VEVENT
DTSTART;TZID=UTC:20250607T000000
DTEND;TZID=UTC:20250607T000000
DTSTAMP:20260421T115137
CREATED:20250609T132113Z
LAST-MODIFIED:20250609T144547Z
UID:8665-1749254400-1749254400@fan.ad
SUMMARY:Trofeu Canòlich
DESCRIPTION:07/06/2025Piscina LAUesport\nSant Julià de Lòria
URL:https://fan.ad/event/trofeu-canolich/
CATEGORIES:Natació
END:VEVENT
BEGIN:VEVENT
DTSTART;TZID=UTC:20250610T193000
DTEND;TZID=UTC:20250610T220000
DTSTAMP:20260421T115137
CREATED:20250609T132036Z
LAST-MODIFIED:20250609T132036Z
UID:8648-1749583800-1749592800@fan.ad
SUMMARY:ASSEMBLEA FAN 2025
DESCRIPTION:10/06/2025Centre de Tecnificació Esportiva d’Ordino\nCONVOCATORIA
URL:https://fan.ad/event/assemblea-fan-2025/
ATTACH;FMTTYPE=image/jpeg:https://fan.ad/wp-content/uploads/2025/06/20250610_ASSEMBLEA-FAN_-hEmwnp.jpg
END:VEVENT
BEGIN:VEVENT
DTSTART;TZID=UTC:20250613T000000
DTEND;TZID=UTC:20250615T000000
DTSTAMP:20260421T115137
CREATED:20250609T132112Z
LAST-MODIFIED:20250609T144343Z
UID:8664-1749772800-1749945600@fan.ad
SUMMARY:Final Territorial Benjamina
DESCRIPTION:13-15/06/2025Reus\, Tarragona\nCONVOCATORIA
URL:https://fan.ad/event/final-territorial-benjamina/
LOCATION:CN REUS PLOMS\, Reus\, Spain
CATEGORIES:Natació
ATTACH;FMTTYPE=image/jpeg:https://fan.ad/wp-content/uploads/2025/06/b02038dd-27e4-4c0c-9905-3a714f3deb1b-Alv0bD.jpg
END:VEVENT
BEGIN:VEVENT
DTSTART;TZID=UTC:20250613T183000
DTEND;TZID=UTC:20250613T200000
DTSTAMP:20260421T115137
CREATED:20250609T132042Z
LAST-MODIFIED:20250609T204653Z
UID:8651-1749839400-1749844800@fan.ad
SUMMARY:1r OPEN ANDORRA DE WATERPOLO ESCOLAR
DESCRIPTION:1r Open Andorra de Waterpolo EscolarDATA: 13/06/2025\nLLOC: Complex Esportiu d’Encamp\nHORA: 18h00 \nNORMATIVA-Ir-OPEN-ANDORRA-DE-WATERPOLO-ESCOLAR \nFULL-OFICIAL-INSCRIPCIO_Ir-OPEN-ANDORRA-DE-WATERPOLO-ESCOLAR
URL:https://fan.ad/event/1r-open-andorra-de-waterpolo-escolar/
CATEGORIES:Waterpolo
ATTACH;FMTTYPE=image/jpeg:https://fan.ad/wp-content/uploads/2025/06/WTPOLOESCOLAR-0G9dsi.jpg
END:VEVENT
BEGIN:VEVENT
DTSTART;TZID=UTC:20250614T000000
DTEND;TZID=UTC:20250615T000000
DTSTAMP:20260421T115137
CREATED:20250609T132211Z
LAST-MODIFIED:20250609T144331Z
UID:8680-1749859200-1749945600@fan.ad
SUMMARY:Campionat Catalunya Rutines Grups Edat
DESCRIPTION:14-15/06/2025Lloc: Mataró\nCategories aleví\, infantil i júnior\nCONVOCATORIA
URL:https://fan.ad/event/campionat-catalunya-rutines-grups-edat/
CATEGORIES:Artística
ATTACH;FMTTYPE=image/jpeg:https://fan.ad/wp-content/uploads/2025/06/32cfa35a-5142-4864-b884-a811e15fd590-XdIP23.jpg
END:VEVENT
BEGIN:VEVENT
DTSTART;VALUE=DATE:20250617
DTEND;VALUE=DATE:20250618
DTSTAMP:20260421T115137
CREATED:20250617T101639Z
LAST-MODIFIED:20250617T101639Z
UID:8811-1750118400-1750204799@fan.ad
SUMMARY:Prova 2
DESCRIPTION:
URL:https://fan.ad/event/prova-2/
LOCATION:Centre de Tecnificació Esportiva d’Ordino\, Ordino\, AD300\, Andorra
CATEGORIES:Clínic
ORGANIZER;CN="Federaci%C3%B3 Andorrana de Nataci%C3%B3":MAILTO:nataliameca@fan.ad
END:VEVENT
BEGIN:VEVENT
DTSTART;TZID=UTC:20250620T000000
DTEND;TZID=UTC:20250622T000000
DTSTAMP:20260421T115137
CREATED:20250609T132111Z
LAST-MODIFIED:20250609T205123Z
UID:8663-1750377600-1750550400@fan.ad
SUMMARY:Ct. Catalunya Aleví Estiu
DESCRIPTION:20-22/06/2025 Reus\, Tarragona \nCONVOCATORIA
URL:https://fan.ad/event/ct-catalunya-alevi-estiu/
LOCATION:CN REUS PLOMS\, Reus\, Spain
CATEGORIES:Natació
ATTACH;FMTTYPE=image/jpeg:https://fan.ad/wp-content/uploads/2025/06/b8c08ef1-0fc8-490b-8c3a-0709a59ffe2a-2dqzVY.jpg
END:VEVENT
BEGIN:VEVENT
DTSTART;TZID=UTC:20250626T000000
DTEND;TZID=UTC:20250628T000000
DTSTAMP:20260421T115137
CREATED:20250609T132110Z
LAST-MODIFIED:20250609T205237Z
UID:8662-1750896000-1751068800@fan.ad
SUMMARY:Ct. Catalunya Infantil Estiu
DESCRIPTION:26-28/06/2025 \nPiscina Sylvia Fontana\nTarragona \nCONVOCATORIA \n  \n 
URL:https://fan.ad/event/ct-catalunya-infantil-estiu/
CATEGORIES:Natació
ATTACH;FMTTYPE=image/jpeg:https://fan.ad/wp-content/uploads/2025/06/c5167e9d-b022-4005-aecd-75c3578b8f3e-iQprT9.jpg
END:VEVENT
BEGIN:VEVENT
DTSTART;TZID=UTC:20250629T000000
DTEND;TZID=UTC:20250629T000000
DTSTAMP:20260421T115137
CREATED:20250609T132110Z
LAST-MODIFIED:20250626T043756Z
UID:8661-1751155200-1751155200@fan.ad
SUMMARY:Final de Relleus
DESCRIPTION:29/06/2025 \nTarragona \nCONVOCATORIA_FINAL RELLEUS_2025
URL:https://fan.ad/event/final-de-relleus/
CATEGORIES:Natació
END:VEVENT
END:VCALENDAR