BEGIN:VCALENDAR
VERSION:2.0
PRODID:-//FEDERACIÓ ANDORRANA DE NATACIÓ - ECPv6.15.11//NONSGML v1.0//EN
CALSCALE:GREGORIAN
METHOD:PUBLISH
X-WR-CALNAME:FEDERACIÓ ANDORRANA DE NATACIÓ
X-ORIGINAL-URL:https://fan.ad
X-WR-CALDESC:Esdeveniments per FEDERACIÓ ANDORRANA DE NATACIÓ
REFRESH-INTERVAL;VALUE=DURATION:PT1H
X-Robots-Tag:noindex
X-PUBLISHED-TTL:PT1H
BEGIN:VTIMEZONE
TZID:UTC
BEGIN:STANDARD
TZOFFSETFROM:+0000
TZOFFSETTO:+0000
TZNAME:UTC
DTSTART:20240101T000000
END:STANDARD
END:VTIMEZONE
BEGIN:VEVENT
DTSTART;TZID=UTC:20250502T080000
DTEND;TZID=UTC:20250504T180000
DTSTAMP:20260421T132447
CREATED:20250608T205140Z
LAST-MODIFIED:20250609T144711Z
UID:8140-1746172800-1746381600@fan.ad
SUMMARY:Meeting National Région Sud 2025
DESCRIPTION:Saint Raphaël- France02/05/2025 al 04/05/2025\nCONVOCATORIA
URL:https://fan.ad/event/meeting-national-region-sud-2025/
CATEGORIES:Competició Internacional,Natació
ATTACH;FMTTYPE=image/jpeg:https://fan.ad/wp-content/uploads/2025/06/970-r103vE.jpg
END:VEVENT
BEGIN:VEVENT
DTSTART;TZID=UTC:20250504T000000
DTEND;TZID=UTC:20250504T000000
DTSTAMP:20260421T132447
CREATED:20250609T132213Z
LAST-MODIFIED:20250609T144703Z
UID:8683-1746316800-1746316800@fan.ad
SUMMARY:Campionat d’Andorra de Rutines 2025
DESCRIPTION:SEU: Piscina dels SerradellsDATA: 04/05/2025 \nSessió matí: 10h00\nSessió tarda: 16h00 \nRESULTATS MATI\nRESULTATS TARDA\n 
URL:https://fan.ad/event/campionat-dandorra-de-rutines-2025-2/
CATEGORIES:Artística,Competició nacional
ATTACH;FMTTYPE=image/jpeg:https://fan.ad/wp-content/uploads/2025/06/campionatandorra2025-n2TrOn.jpg
END:VEVENT
BEGIN:VEVENT
DTSTART;TZID=UTC:20250510T000000
DTEND;TZID=UTC:20250510T000000
DTSTAMP:20260421T132447
CREATED:20250609T132121Z
LAST-MODIFIED:20250609T144655Z
UID:8667-1746835200-1746835200@fan.ad
SUMMARY:XXIII MEMORIAL FELICIÀ CUEN
DESCRIPTION:10/05/2025Piscina Col·legi Sant Ermengol\nEscalfament 08h00\nCompetició 09h00\nNORMATIVA\nSERIES
URL:https://fan.ad/event/xxiii-memorial-felicia-cuen-2/
CATEGORIES:Natació
END:VEVENT
BEGIN:VEVENT
DTSTART;TZID=UTC:20250517T100000
DTEND;TZID=UTC:20250517T130000
DTSTAMP:20260421T132447
CREATED:20250608T205145Z
LAST-MODIFIED:20250609T144648Z
UID:8145-1747476000-1747486800@fan.ad
SUMMARY:XXVIIè Trofeu ÀMFORA de Natació
DESCRIPTION:17/05/2025Piscina Escaldes-Engordany\nNORMATIVA\nSERIES\nHORARIS
URL:https://fan.ad/event/xxviie-trofeu-amfora-de-natacio/
CATEGORIES:Natació
END:VEVENT
BEGIN:VEVENT
DTSTART;TZID=UTC:20250518T100000
DTEND;TZID=UTC:20250518T130000
DTSTAMP:20260421T132447
CREATED:20250608T205141Z
LAST-MODIFIED:20250609T144638Z
UID:8142-1747562400-1747573200@fan.ad
SUMMARY:XXV Trofeu CANÒLICH de Natació
DESCRIPTION:18/05/2025Piscina LAUesport- Sant Julià de Lòria\nNORMATIVA\nSERIES\nHORARIS
URL:https://fan.ad/event/xxv-trofeu-canolich-de-natacio/
CATEGORIES:Natació
ATTACH;FMTTYPE=image/jpeg:https://fan.ad/wp-content/uploads/2025/06/XXV-TROFEU-CANOLICH-NATACIO-CARTELL_OK-uII0mb.jpg
END:VEVENT
BEGIN:VEVENT
DTSTART;TZID=UTC:20250523T180000
DTEND;TZID=UTC:20250524T200000
DTSTAMP:20260421T132447
CREATED:20250609T132213Z
LAST-MODIFIED:20250609T144629Z
UID:8682-1748023200-1748116800@fan.ad
SUMMARY:2ª Jornada Lliga Catalana Rutines Tècniques Júnior
DESCRIPTION:Divendres 23-24/05/2025Piscina R. Blume- Barcelona\n \nCONVOCATORIA\n 
URL:https://fan.ad/event/2a-jornada-lliga-catalana-rutines-tecniques-junior/
CATEGORIES:Artística,Lliga Catalana
END:VEVENT
BEGIN:VEVENT
DTSTART;TZID=UTC:20250524T080000
DTEND;TZID=UTC:20250524T130000
DTSTAMP:20260421T132447
CREATED:20250609T132212Z
LAST-MODIFIED:20250609T144619Z
UID:8681-1748073600-1748091600@fan.ad
SUMMARY:4ª Jornada Lliga Catalana de Figures
DESCRIPTION:Dissabte 24/05/2025Categories aleví\, infantil i júnior\nPiscina per determinar\n \nCONVOCATORIA\n 
URL:https://fan.ad/event/4a-jornada-lliga-catalana-de-figures/
LOCATION:Per determinar\, Spain
CATEGORIES:Artística,Lliga Catalana
END:VEVENT
BEGIN:VEVENT
DTSTART;TZID=UTC:20250526T090000
DTEND;TZID=UTC:20250531T120000
DTSTAMP:20260421T132447
CREATED:20250608T205138Z
LAST-MODIFIED:20250609T144610Z
UID:8136-1748250000-1748692800@fan.ad
SUMMARY:Jocs dels Petits Estats d’Europa
DESCRIPTION:26-31/05/2025Principat d’Andorra\nARTISTIC SWIMMING_RESULTS\nCONVOCATÒRIA NATACIÓ\n \nCONVOCATÒRIA NATACIÓ ARTÍSTICA
URL:https://fan.ad/event/jocs-dels-petits-estats-deuropa-2/
CATEGORIES:COA,Competició Internacional,JPEE
ATTACH;FMTTYPE=image/jpeg:https://fan.ad/wp-content/uploads/2025/06/marcaJJPPEE25_H_CAT-bI4YIT.jpg
END:VEVENT
BEGIN:VEVENT
DTSTART;TZID=UTC:20250531T080000
DTEND;TZID=UTC:20250531T180000
DTSTAMP:20260421T132447
CREATED:20250609T090544Z
LAST-MODIFIED:20250609T144601Z
UID:8641-1748678400-1748714400@fan.ad
SUMMARY:COPA CATALANA INFANTIL NATACIÓ
DESCRIPTION:31/05/2025Lloret de Mar\nCONVOCATÒRIA NATACIÓ
URL:https://fan.ad/event/copa-catalana-infantil-natacio/
LOCATION:CN LLORET\, Lloret de Mar\, Spain
CATEGORIES:Natació
ATTACH;FMTTYPE=image/jpeg:https://fan.ad/wp-content/uploads/2025/06/COPA-inf-4qNlZy.jpg
END:VEVENT
END:VCALENDAR