BEGIN:VCALENDAR
VERSION:2.0
PRODID:-//FEDERACIÓ ANDORRANA DE NATACIÓ - ECPv6.15.11//NONSGML v1.0//EN
CALSCALE:GREGORIAN
METHOD:PUBLISH
X-WR-CALNAME:FEDERACIÓ ANDORRANA DE NATACIÓ
X-ORIGINAL-URL:https://fan.ad
X-WR-CALDESC:Esdeveniments per FEDERACIÓ ANDORRANA DE NATACIÓ
REFRESH-INTERVAL;VALUE=DURATION:PT1H
X-Robots-Tag:noindex
X-PUBLISHED-TTL:PT1H
BEGIN:VTIMEZONE
TZID:UTC
BEGIN:STANDARD
TZOFFSETFROM:+0000
TZOFFSETTO:+0000
TZNAME:UTC
DTSTART:20250101T000000
END:STANDARD
END:VTIMEZONE
BEGIN:VEVENT
DTSTART;TZID=UTC:20260311T080000
DTEND;TZID=UTC:20260315T170000
DTSTAMP:20260425T135143
CREATED:20260302T111855Z
LAST-MODIFIED:20260302T111952Z
UID:9773-1773216000-1773594000@fan.ad
SUMMARY:XXVI CAMPEONATO DE ESPAÑA ABSOLUTO OPEN P50 - ASTRALPOOL / XLII CAMPEONATO DE ESPAÑA JUNIOR P50
DESCRIPTION:11-15/03/2026 \nSabadell \nCONVOC_C.ESP ABSOLUT_HIV_P50
URL:https://fan.ad/event/xxvi-campeonato-de-espana-absoluto-open-p50-astralpool-xlii-campeonato-de-espana-junior-p50/
LOCATION:CN Sabadell\, Carrer Budapest\, 1. 08206\, Sabadell.\, Sabadell\, Spain
CATEGORIES:Campionats Espanya,Natació
ATTACH;FMTTYPE=image/png:https://fan.ad/wp-content/uploads/2026/03/1772187134_6724.png
END:VEVENT
BEGIN:VEVENT
DTSTART;TZID=UTC:20260320T080000
DTEND;TZID=UTC:20260322T170000
DTSTAMP:20260425T135143
CREATED:20260302T172041Z
LAST-MODIFIED:20260319T113944Z
UID:9782-1773993600-1774198800@fan.ad
SUMMARY:XLV CAMPEONATO DE ESPAÑA DE NATACION INFANTIL – INVIERNO
DESCRIPTION:Sabadell \n20-22/03/2026 \nCONVOC_C.ESP INFANTIL_HIV_P50
URL:https://fan.ad/event/xlv-campeonato-de-espana-de-natacion-infantil-invierno/
LOCATION:CN Sabadell\, Carrer Budapest\, 1. 08206\, Sabadell.\, Sabadell\, Spain
CATEGORIES:Campionats Espanya,Natació
ATTACH;FMTTYPE=image/png:https://fan.ad/wp-content/uploads/2026/03/1773660995_7013.png
END:VEVENT
BEGIN:VEVENT
DTSTART;TZID=UTC:20260320T180000
DTEND;TZID=UTC:20260320T200000
DTSTAMP:20260425T135143
CREATED:20251005T052737Z
LAST-MODIFIED:20260321T052813Z
UID:9175-1774029600-1774036800@fan.ad
SUMMARY:LLIGA BASE BRAÇA 2025/2026
DESCRIPTION:Divendres 20/03/2026 \n\nSant Julià de Lòria\nEscalfament 18h15\nCompetició 18h45\n\n20260320_MEDALLES PER PROVA
URL:https://fan.ad/event/lliga-base-braca-2025-2026/
LOCATION:LAUesport\, Plaça de Calonge-Sant Antoni s/n\, Sant Julià de Lòria\, AD600\, Andorra
CATEGORIES:Competició nacional,Natació
ORGANIZER;CN="Federaci%C3%B3 Andorrana de Nataci%C3%B3":MAILTO:nataliameca@fan.ad
END:VEVENT
BEGIN:VEVENT
DTSTART;TZID=UTC:20260321T143000
DTEND;TZID=UTC:20260321T200000
DTSTAMP:20260425T135143
CREATED:20251005T070224Z
LAST-MODIFIED:20260318T061354Z
UID:9221-1774103400-1774123200@fan.ad
SUMMARY:V TROFEU SANTA EULÀLIA OPEN MÀSTERS ANDORRA
DESCRIPTION:11ª ETAPA CIRCUIT CATALÀ DE TROFEUS MÀSTER NATACIÓ \nDissabte 21/03/2026 \n2026_TORNS ESCALFAMENT TRF SANTA EULALIA \n  \n \n2026_REGLAMENT provisional_V TRF STA EULALIA OPEN MASTER ANDORRA \n2026_Full liquidació_Sta Eulalia
URL:https://fan.ad/event/v-trofeu-santa-eulalia-open-masters-andorra/
LOCATION:Complex Esportiu i Socio-Cultural d’Encamp\, Encamp\, AD200\, Andorra
CATEGORIES:Competició nacional,Màsters,Natació
ATTACH;FMTTYPE=image/jpeg:https://fan.ad/wp-content/uploads/2025/10/CARTELL-STA-EULALIA-vs1.jpg
ORGANIZER;CN="Federaci%C3%B3 Andorrana de Nataci%C3%B3":MAILTO:nataliameca@fan.ad
END:VEVENT
BEGIN:VEVENT
DTSTART;TZID=UTC:20260327T080000
DTEND;TZID=UTC:20260329T170000
DTSTAMP:20260425T135143
CREATED:20260319T174022Z
LAST-MODIFIED:20260319T174223Z
UID:9858-1774598400-1774803600@fan.ad
SUMMARY:36è Trofeu Ciutat Terrassa - Open Internacional Cat. Nat.
DESCRIPTION:CONVOC_CCT TERRASA_OPEN INTERNC CAT
URL:https://fan.ad/event/36e-trofeu-ciutat-terrassa-open-internacional-cat-nat/
LOCATION:C.N.Terrassa\, Avinguda Abat Marcet\, Terrassa\, 08225
CATEGORIES:Campionats de Catalunya,Natació
ATTACH;FMTTYPE=image/png:https://fan.ad/wp-content/uploads/2026/03/CIRCUIT-TERRASSA.png
END:VEVENT
BEGIN:VEVENT
DTSTART;VALUE=DATE:20260328
DTEND;VALUE=DATE:20260329
DTSTAMP:20260425T135143
CREATED:20251005T063738Z
LAST-MODIFIED:20260328T175628Z
UID:9204-1774656000-1774742399@fan.ad
SUMMARY:2026_MEETING INTERNACIONAL D'ENCAMP
DESCRIPTION:Dissabte 28/03/2025\nSessió matí i tarda\nPiscina Encamp\n20260326_RESULTATS XXXII MEETING ENCAMP\n\n_REGLAMENT XXXII MEETING ENCAMP_2026
URL:https://fan.ad/event/2026_meeting-internacional-dencamp/
LOCATION:Complex Esportiu i Socio-Cultural d’Encamp\, Encamp\, AD200\, Andorra
CATEGORIES:Màsters,Natació,Trofeus Clubs
ATTACH;FMTTYPE=image/jpeg:https://fan.ad/wp-content/uploads/2026/02/2026_MEETING-ENCAMP.jpg
ORGANIZER;CN="C.N.Encamp":MAILTO:dani.mugica0@gmail.com
END:VEVENT
BEGIN:VEVENT
DTSTART;TZID=UTC:20260330T080000
DTEND;TZID=UTC:20260402T180000
DTSTAMP:20260425T135143
CREATED:20260319T172608Z
LAST-MODIFIED:20260319T172919Z
UID:9848-1774857600-1775152800@fan.ad
SUMMARY:Entrenaments NATACIÓ Infantil PASQUA 2026
DESCRIPTION:Infantils: 30/3 al 02/04 i 7 al 10/04/2026 \nAlevins: 7 al 10/04/2026 \nENTRENAMENTS_PASQUA_Convoc
URL:https://fan.ad/event/entrenaments-natacio-infantil-alevi-pasqua-2026/
LOCATION:Centre Esportiu Els Serradells\, Andorra la Vella\, AD500\, Andorra
CATEGORIES:Entrenaments,Natació
ORGANIZER;CN="Federaci%C3%B3 Andorrana de Nataci%C3%B3":MAILTO:nataliameca@fan.ad
END:VEVENT
BEGIN:VEVENT
DTSTART;TZID=UTC:20260330T080000
DTEND;TZID=UTC:20260403T170000
DTSTAMP:20260425T135143
CREATED:20260319T172753Z
LAST-MODIFIED:20260319T172753Z
UID:9850-1774857600-1775235600@fan.ad
SUMMARY:ESTATGE Natació-PASQUA 2026
DESCRIPTION:30/03 al 03/04/2026 \nPas de la  Casa \nCONVOC_STAGE_PAS DE LA CASA_26
URL:https://fan.ad/event/estatge-natacio-pasqua-2026/
LOCATION:Centre Esportiu del Pas de la Casa\, Pas de la Casa\, AD200\, Andorra
CATEGORIES:Estada,Natació
ORGANIZER;CN="Federaci%C3%B3 Andorrana de Nataci%C3%B3":MAILTO:nataliameca@fan.ad
END:VEVENT
BEGIN:VEVENT
DTSTART;TZID=UTC:20260407T110000
DTEND;TZID=UTC:20260410T123000
DTSTAMP:20260425T135143
CREATED:20260319T173222Z
LAST-MODIFIED:20260319T173234Z
UID:9853-1775559600-1775824200@fan.ad
SUMMARY:Entrenaments NATACIÓ Aleví PASQUA 2026
DESCRIPTION:ENTRENAMENTS_PASQUA_Convoc
URL:https://fan.ad/event/entrenaments-natacio-alevi-pasqua-2026/
LOCATION:Centre Esportiu Els Serradells\, Andorra la Vella\, AD500\, Andorra
CATEGORIES:Entrenaments,Natació
ORGANIZER;CN="Federaci%C3%B3 Andorrana de Nataci%C3%B3":MAILTO:nataliameca@fan.ad
END:VEVENT
BEGIN:VEVENT
DTSTART;TZID=UTC:20260407T170000
DTEND;TZID=UTC:20260410T200000
DTSTAMP:20260425T135143
CREATED:20260319T111308Z
LAST-MODIFIED:20260319T111308Z
UID:9836-1775581200-1775851200@fan.ad
SUMMARY:Entrenaments ARTÍSTICA-FAN
DESCRIPTION:7-10/04/2026 \n17h00-20h00 Ordino/Sant Julià de Lòria \n2025_26_17_CONVOCATORIA_JUNIOR ssanta2026 \n2025_26_16_CONVOCATORIA_INFANTIL ssanta2026
URL:https://fan.ad/event/entrenaments-artistica-fan/
LOCATION:Centre Esportiu d’Ordino\, Ordino\, AD300\, Andorra
CATEGORIES:Artística,Entrenaments
ORGANIZER;CN="Federaci%C3%B3 Andorrana de Nataci%C3%B3":MAILTO:nataliameca@fan.ad
END:VEVENT
BEGIN:VEVENT
DTSTART;TZID=UTC:20260412T060000
DTEND;TZID=UTC:20260412T133000
DTSTAMP:20260425T135143
CREATED:20260402T050410Z
LAST-MODIFIED:20260402T050410Z
UID:9928-1775973600-1776000600@fan.ad
SUMMARY:PROVA DE NIVELL
DESCRIPTION:Diumenge 12/04/2026 \nCN Lleida \nCONVOCATORIA_PROVA NIVELL
URL:https://fan.ad/event/prova-de-nivell-3/
LOCATION:CN Lleida\, Partida Balàfia\, 132\,\, Lleida\, 25196 Lleida\, España\, Spain
CATEGORIES:FCN,Natació
END:VEVENT
BEGIN:VEVENT
DTSTART;TZID=UTC:20260417T180000
DTEND;TZID=UTC:20260417T200000
DTSTAMP:20260425T135143
CREATED:20251005T045706Z
LAST-MODIFIED:20260419T104432Z
UID:9160-1776448800-1776456000@fan.ad
SUMMARY:2ª Jornada LLIGA BASE ARTÍSTICA
DESCRIPTION:Divendres 17/04/2026 \nPiscina LAUesport \n\nEscalfament 18h00\nInici competició 19h00\n\nNA_02_NORMATIVA LLIGA BASE ARTÍSTICA 25_26 \n 
URL:https://fan.ad/event/2a-jornada-lliga-base-artistica/
LOCATION:LAUesport\, Plaça de Calonge-Sant Antoni s/n\, Sant Julià de Lòria\, AD600\, Andorra
CATEGORIES:Artística,Competició nacional
ATTACH;FMTTYPE=image/jpeg:https://fan.ad/wp-content/uploads/2026/03/2_LLIGA-BASE-ARTISTICA.jpeg
END:VEVENT
BEGIN:VEVENT
DTSTART;TZID=UTC:20260418T083000
DTEND;TZID=UTC:20260418T130000
DTSTAMP:20260425T135143
CREATED:20251005T061601Z
LAST-MODIFIED:20260419T104450Z
UID:9196-1776501000-1776517200@fan.ad
SUMMARY:7ª Jornada Lliga Andorrana Absoluta
DESCRIPTION:7ª Jornada Lliga Catalana Aleví\n5ª Jornada Lliga Catalana Infantil\n7ª Jornada Lliga Andorrana Absoluta\nREPESCA BENJAMÍ\nPiscina Encamp\nEscalfament 09h00\nInici competició 10h00\n\nN_02_NORMATIVA LLIGUES CATALANES_LLIGA ANDORRANA ABS_2025_26_25022026
URL:https://fan.ad/event/7a-jornada-lliga-andorrana-absoluta/
LOCATION:Complex Esportiu i Socio-Cultural d’Encamp\, Encamp\, AD200\, Andorra
CATEGORIES:Competició nacional,Lliga Catalana,Natació
ORGANIZER;CN="Federaci%C3%B3 Andorrana de Nataci%C3%B3":MAILTO:nataliameca@fan.ad
END:VEVENT
BEGIN:VEVENT
DTSTART;TZID=UTC:20260418T090000
DTEND;TZID=UTC:20260418T123000
DTSTAMP:20260425T135143
CREATED:20251005T045454Z
LAST-MODIFIED:20260419T104512Z
UID:9158-1776502800-1776515400@fan.ad
SUMMARY:3ª Jornada Lliga Andorrana de Figures
DESCRIPTION:Dissabte 18/04/2026 \nPiscina LAUesport \n\nEscalfament 09h00\nInici competició 09h45\n\n  \nNA_03_NORMATIVA LLIGA ANDORRANA DE FIGURES AQUA i FIGURES ESCOLA
URL:https://fan.ad/event/3a-jornada-lliga-andorrana-de-figures-2/
LOCATION:LAUesport\, Plaça de Calonge-Sant Antoni s/n\, Sant Julià de Lòria\, AD600\, Andorra
CATEGORIES:Artística,Competició nacional
ATTACH;FMTTYPE=image/jpeg:https://fan.ad/wp-content/uploads/2026/03/3_LLIGAFIGAND.jpeg
ORGANIZER;CN="Federaci%C3%B3 Andorrana de Nataci%C3%B3":MAILTO:nataliameca@fan.ad
END:VEVENT
BEGIN:VEVENT
DTSTART;TZID=UTC:20260422T080000
DTEND;TZID=UTC:20260425T170000
DTSTAMP:20260425T135143
CREATED:20260319T173601Z
LAST-MODIFIED:20260421T152220Z
UID:9855-1776844800-1777136400@fan.ad
SUMMARY:Projecte 2028-ANDBANK
DESCRIPTION:CONVOC_FAN_Projecte 2028_ANDBANK_AquaticLavb_UNIV GRANADA
URL:https://fan.ad/event/projecte-2028-andbank/
LOCATION:Aquatics Lab\, Granada\, Spain
CATEGORIES:Estada,Natació
ORGANIZER;CN="Federaci%C3%B3 Andorrana de Nataci%C3%B3":MAILTO:nataliameca@fan.ad
END:VEVENT
BEGIN:VEVENT
DTSTART;TZID=UTC:20260502T093000
DTEND;TZID=UTC:20260502T193000
DTSTAMP:20260425T135143
CREATED:20260226T163713Z
LAST-MODIFIED:20260424T122002Z
UID:9766-1777714200-1777750200@fan.ad
SUMMARY:VI OPEN ANDBANK ANDORRA
DESCRIPTION:Dissabte 02/05/2026 \n\nSessió matí 09h30\nSessió tarda 16h30\n\nPiscina Serradells \n  \nN_05_OPEN_ANDBANK 2026_17022026 \n 
URL:https://fan.ad/event/vi-open-andbank-andorra/
LOCATION:Centre Esportiu Els Serradells\, Andorra la Vella\, AD500\, Andorra
CATEGORIES:Competició nacional,Natació
ORGANIZER;CN="Federaci%C3%B3 Andorrana de Nataci%C3%B3":MAILTO:nataliameca@fan.ad
END:VEVENT
BEGIN:VEVENT
DTSTART;VALUE=DATE:20260509
DTEND;VALUE=DATE:20260510
DTSTAMP:20260425T135143
CREATED:20251005T064240Z
LAST-MODIFIED:20251005T064240Z
UID:9207-1778284800-1778371199@fan.ad
SUMMARY:2026_MEMORIAL FELICIÀ CUEN
DESCRIPTION:Dissabte 09/05/2026\nPiscina Col·legi Sant Ermengol\n\n 
URL:https://fan.ad/event/2026_memorial-felicia-cuen/
LOCATION:Col·legi Sant Ermengol\, C/Les Canals\, 86 AD500 Andorra La Vella\, AD500\, Andorra
CATEGORIES:Màsters,Natació,Trofeus Clubs
ORGANIZER;CN="CLESER":MAILTO:cleser@ermengol.safaurgell.org
END:VEVENT
BEGIN:VEVENT
DTSTART;TZID=UTC:20260509T080000
DTEND;TZID=UTC:20260509T130000
DTSTAMP:20260425T135143
CREATED:20260309T174653Z
LAST-MODIFIED:20260322T074420Z
UID:9798-1778313600-1778331600@fan.ad
SUMMARY:XXIV MEMORIAL FELICIÀ CUEN
DESCRIPTION:Dissabte 09/05/2026 \n09h00 \nReglament actualitzat Memorial Felicià 2026 \n 
URL:https://fan.ad/event/xxiv-memorial-felicia-cuen/
LOCATION:Col·legi Sant Ermengol\, C/Les Canals\, 86 AD500 Andorra La Vella\, AD500\, Andorra
CATEGORIES:Natació,Trofeus Clubs
ORGANIZER;CN="CLESER":MAILTO:cleser@ermengol.safaurgell.org
END:VEVENT
BEGIN:VEVENT
DTSTART;TZID=UTC:20260515T180000
DTEND;TZID=UTC:20260515T200000
DTSTAMP:20260425T135143
CREATED:20251005T053107Z
LAST-MODIFIED:20251015T094430Z
UID:9177-1778868000-1778875200@fan.ad
SUMMARY:LLIGA BASE PAPALLONA 2025/2026
DESCRIPTION:Divendres 15/05/2026 \n\nPas de la Casa\nEscalfament 18h30\nCompetició 19h00\n\n 
URL:https://fan.ad/event/lliga-base-papallona-2025-2026/
LOCATION:Centre Esportiu del Pas de la Casa\, Pas de la Casa\, AD200\, Andorra
CATEGORIES:Competició nacional,Natació
ORGANIZER;CN="Federaci%C3%B3 Andorrana de Nataci%C3%B3":MAILTO:nataliameca@fan.ad
END:VEVENT
BEGIN:VEVENT
DTSTART;TZID=UTC:20260516T083000
DTEND;TZID=UTC:20260516T130000
DTSTAMP:20260425T135143
CREATED:20251005T064726Z
LAST-MODIFIED:20260210T102318Z
UID:9212-1778920200-1778936400@fan.ad
SUMMARY:2026_XXVI TROFEU CANÒLICH DE NATACIÓ
DESCRIPTION:Dissabte 16/05/2026\nSessió matí inici 10h00\nReglament XXVI Trofeu Canòlich de Natació
URL:https://fan.ad/event/2026_trofeu-canolich/
LOCATION:LAUesport\, Plaça de Calonge-Sant Antoni s/n\, Sant Julià de Lòria\, AD600\, Andorra
CATEGORIES:Màsters,Natació,Trofeus Clubs
ORGANIZER;CN="LAUesport_Nataci%C3%B3":MAILTO:l.montes@lauesport.ad
END:VEVENT
BEGIN:VEVENT
DTSTART;TZID=UTC:20260516T120000
DTEND;TZID=UTC:20260517T140000
DTSTAMP:20260425T135144
CREATED:20260213T174048Z
LAST-MODIFIED:20260213T174048Z
UID:9722-1778932800-1779026400@fan.ad
SUMMARY:Campionat d'Andorra de Rutines 2026
DESCRIPTION:Andorra la Vella\, 16-17/05/2026 \nNORMATIVA CAMPIONAT ANDORRA RUTINES 2026 \nANNEXE 1_NORMATIVA NO AQUA
URL:https://fan.ad/event/campionat-dandorra-de-rutines-2026/
LOCATION:Centre Esportiu Els Serradells\, Andorra la Vella\, AD500\, Andorra
CATEGORIES:Artística,Competició nacional
ORGANIZER;CN="Federaci%C3%B3 Andorrana de Nataci%C3%B3":MAILTO:nataliameca@fan.ad
END:VEVENT
BEGIN:VEVENT
DTSTART;TZID=UTC:20260518T100000
DTEND;TZID=UTC:20260518T130000
DTSTAMP:20260425T135144
CREATED:20260217T101019Z
LAST-MODIFIED:20260217T101200Z
UID:9737-1779098400-1779109200@fan.ad
SUMMARY:II TORNEIG ESCOLAR DE WATERPOLO INFANTIL
DESCRIPTION:DILLUNS 18/05/2026 \n2026_NORMATIVA 2n TORNEIG ESCOLAR DE WATERPOLO INFANTIL \nFULL OFICIAL INSCRIPCIÓ_2n OPEN ANDORRA DE WATERPOLO INFANTIL
URL:https://fan.ad/event/ii-torneig-waterpolo-escolar-infantil/
LOCATION:Complex Esportiu i Socio-Cultural d’Encamp\, Encamp\, AD200\, Andorra
ATTACH;FMTTYPE=image/png:https://fan.ad/wp-content/uploads/2026/02/2n-Open-Escolar-WP-2026.png
ORGANIZER;CN="Federaci%C3%B3 Andorrana de Nataci%C3%B3":MAILTO:nataliameca@fan.ad
END:VEVENT
BEGIN:VEVENT
DTSTART;TZID=UTC:20260606T090000
DTEND;TZID=UTC:20260606T130000
DTSTAMP:20260425T135144
CREATED:20251005T064957Z
LAST-MODIFIED:20260317T072355Z
UID:9215-1780736400-1780750800@fan.ad
SUMMARY:XXVIII TROFEU ÀMFORA
DESCRIPTION:Dissabte 06/06/2026\nInici competició 10h00\nReglament XXVIIIè ÀMFORA
URL:https://fan.ad/event/2026_trofeu-amfora/
LOCATION:Piscines Comunals d’Escaldes-Engordany\, Escaldes-Engordany\, AD700\, Andorra
CATEGORIES:Màsters,Natació,Trofeus Clubs
ORGANIZER;CN="C.N.Escaldes":MAILTO:cnescaldes@gmail.com
END:VEVENT
END:VCALENDAR