BEGIN:VCALENDAR
VERSION:2.0
PRODID:-//FEDERACIÓ ANDORRANA DE NATACIÓ - ECPv6.15.11//NONSGML v1.0//EN
CALSCALE:GREGORIAN
METHOD:PUBLISH
X-WR-CALNAME:FEDERACIÓ ANDORRANA DE NATACIÓ
X-ORIGINAL-URL:https://fan.ad
X-WR-CALDESC:Esdeveniments per FEDERACIÓ ANDORRANA DE NATACIÓ
REFRESH-INTERVAL;VALUE=DURATION:PT1H
X-Robots-Tag:noindex
X-PUBLISHED-TTL:PT1H
BEGIN:VTIMEZONE
TZID:UTC
BEGIN:STANDARD
TZOFFSETFROM:+0000
TZOFFSETTO:+0000
TZNAME:UTC
DTSTART:20240101T000000
END:STANDARD
END:VTIMEZONE
BEGIN:VEVENT
DTSTART;TZID=UTC:20250607T000000
DTEND;TZID=UTC:20250607T000000
DTSTAMP:20260421T190111
CREATED:20250609T132113Z
LAST-MODIFIED:20250609T144547Z
UID:8665-1749254400-1749254400@fan.ad
SUMMARY:Trofeu Canòlich
DESCRIPTION:07/06/2025Piscina LAUesport\nSant Julià de Lòria
URL:https://fan.ad/event/trofeu-canolich/
CATEGORIES:Natació
END:VEVENT
BEGIN:VEVENT
DTSTART;TZID=UTC:20250610T193000
DTEND;TZID=UTC:20250610T220000
DTSTAMP:20260421T190111
CREATED:20250609T132036Z
LAST-MODIFIED:20250609T132036Z
UID:8648-1749583800-1749592800@fan.ad
SUMMARY:ASSEMBLEA FAN 2025
DESCRIPTION:10/06/2025Centre de Tecnificació Esportiva d’Ordino\nCONVOCATORIA
URL:https://fan.ad/event/assemblea-fan-2025/
ATTACH;FMTTYPE=image/jpeg:https://fan.ad/wp-content/uploads/2025/06/20250610_ASSEMBLEA-FAN_-hEmwnp.jpg
END:VEVENT
BEGIN:VEVENT
DTSTART;TZID=UTC:20250613T000000
DTEND;TZID=UTC:20250615T000000
DTSTAMP:20260421T190111
CREATED:20250609T132112Z
LAST-MODIFIED:20250609T144343Z
UID:8664-1749772800-1749945600@fan.ad
SUMMARY:Final Territorial Benjamina
DESCRIPTION:13-15/06/2025Reus\, Tarragona\nCONVOCATORIA
URL:https://fan.ad/event/final-territorial-benjamina/
LOCATION:CN REUS PLOMS\, Reus\, Spain
CATEGORIES:Natació
ATTACH;FMTTYPE=image/jpeg:https://fan.ad/wp-content/uploads/2025/06/b02038dd-27e4-4c0c-9905-3a714f3deb1b-Alv0bD.jpg
END:VEVENT
BEGIN:VEVENT
DTSTART;TZID=UTC:20250613T183000
DTEND;TZID=UTC:20250613T200000
DTSTAMP:20260421T190111
CREATED:20250609T132042Z
LAST-MODIFIED:20250609T204653Z
UID:8651-1749839400-1749844800@fan.ad
SUMMARY:1r OPEN ANDORRA DE WATERPOLO ESCOLAR
DESCRIPTION:1r Open Andorra de Waterpolo EscolarDATA: 13/06/2025\nLLOC: Complex Esportiu d’Encamp\nHORA: 18h00 \nNORMATIVA-Ir-OPEN-ANDORRA-DE-WATERPOLO-ESCOLAR \nFULL-OFICIAL-INSCRIPCIO_Ir-OPEN-ANDORRA-DE-WATERPOLO-ESCOLAR
URL:https://fan.ad/event/1r-open-andorra-de-waterpolo-escolar/
CATEGORIES:Waterpolo
ATTACH;FMTTYPE=image/jpeg:https://fan.ad/wp-content/uploads/2025/06/WTPOLOESCOLAR-0G9dsi.jpg
END:VEVENT
BEGIN:VEVENT
DTSTART;TZID=UTC:20250614T000000
DTEND;TZID=UTC:20250615T000000
DTSTAMP:20260421T190111
CREATED:20250609T132211Z
LAST-MODIFIED:20250609T144331Z
UID:8680-1749859200-1749945600@fan.ad
SUMMARY:Campionat Catalunya Rutines Grups Edat
DESCRIPTION:14-15/06/2025Lloc: Mataró\nCategories aleví\, infantil i júnior\nCONVOCATORIA
URL:https://fan.ad/event/campionat-catalunya-rutines-grups-edat/
CATEGORIES:Artística
ATTACH;FMTTYPE=image/jpeg:https://fan.ad/wp-content/uploads/2025/06/32cfa35a-5142-4864-b884-a811e15fd590-XdIP23.jpg
END:VEVENT
BEGIN:VEVENT
DTSTART;VALUE=DATE:20250617
DTEND;VALUE=DATE:20250618
DTSTAMP:20260421T190111
CREATED:20250617T101639Z
LAST-MODIFIED:20250617T101639Z
UID:8811-1750118400-1750204799@fan.ad
SUMMARY:Prova 2
DESCRIPTION:
URL:https://fan.ad/event/prova-2/
LOCATION:Centre de Tecnificació Esportiva d’Ordino\, Ordino\, AD300\, Andorra
CATEGORIES:Clínic
ORGANIZER;CN="Federaci%C3%B3 Andorrana de Nataci%C3%B3":MAILTO:nataliameca@fan.ad
END:VEVENT
BEGIN:VEVENT
DTSTART;TZID=UTC:20250620T000000
DTEND;TZID=UTC:20250622T000000
DTSTAMP:20260421T190111
CREATED:20250609T132111Z
LAST-MODIFIED:20250609T205123Z
UID:8663-1750377600-1750550400@fan.ad
SUMMARY:Ct. Catalunya Aleví Estiu
DESCRIPTION:20-22/06/2025 Reus\, Tarragona \nCONVOCATORIA
URL:https://fan.ad/event/ct-catalunya-alevi-estiu/
LOCATION:CN REUS PLOMS\, Reus\, Spain
CATEGORIES:Natació
ATTACH;FMTTYPE=image/jpeg:https://fan.ad/wp-content/uploads/2025/06/b8c08ef1-0fc8-490b-8c3a-0709a59ffe2a-2dqzVY.jpg
END:VEVENT
BEGIN:VEVENT
DTSTART;TZID=UTC:20250626T000000
DTEND;TZID=UTC:20250628T000000
DTSTAMP:20260421T190111
CREATED:20250609T132110Z
LAST-MODIFIED:20250609T205237Z
UID:8662-1750896000-1751068800@fan.ad
SUMMARY:Ct. Catalunya Infantil Estiu
DESCRIPTION:26-28/06/2025 \nPiscina Sylvia Fontana\nTarragona \nCONVOCATORIA \n  \n 
URL:https://fan.ad/event/ct-catalunya-infantil-estiu/
CATEGORIES:Natació
ATTACH;FMTTYPE=image/jpeg:https://fan.ad/wp-content/uploads/2025/06/c5167e9d-b022-4005-aecd-75c3578b8f3e-iQprT9.jpg
END:VEVENT
BEGIN:VEVENT
DTSTART;TZID=UTC:20250629T000000
DTEND;TZID=UTC:20250629T000000
DTSTAMP:20260421T190111
CREATED:20250609T132110Z
LAST-MODIFIED:20250626T043756Z
UID:8661-1751155200-1751155200@fan.ad
SUMMARY:Final de Relleus
DESCRIPTION:29/06/2025 \nTarragona \nCONVOCATORIA_FINAL RELLEUS_2025
URL:https://fan.ad/event/final-de-relleus/
CATEGORIES:Natació
END:VEVENT
BEGIN:VEVENT
DTSTART;TZID=UTC:20250701T000000
DTEND;TZID=UTC:20250706T000000
DTSTAMP:20260421T190111
CREATED:20250609T132107Z
LAST-MODIFIED:20250629T051544Z
UID:8660-1751328000-1751760000@fan.ad
SUMMARY:Junior Swimming Championships
DESCRIPTION:1-6/07/2025 \nSamorin\, Slovakia \n2025_EUROPA JUNIOR SAMORIN_Convocatoria
URL:https://fan.ad/event/junior-swimming-championships-2/
CATEGORIES:Competició Internacional,Natació
END:VEVENT
BEGIN:VEVENT
DTSTART;TZID=UTC:20250703T000000
DTEND;TZID=UTC:20250706T000000
DTSTAMP:20260421T190111
CREATED:20250609T132106Z
LAST-MODIFIED:20250701T035314Z
UID:8659-1751500800-1751760000@fan.ad
SUMMARY:Ct. Catalunya Júnior Estiu – CCTN Trofeu Ciutat Mataró
DESCRIPTION:3-6/07/2025 \nMataró \nCONVOCATÒRIA_CAMPIONAT DE CATALUNYA ESTIU JUNIOR_2025 \n  \n 
URL:https://fan.ad/event/ct-catalunya-junior-estiu-cctn-trofeu-ciutat-mataro-2/
CATEGORIES:Natació
END:VEVENT
BEGIN:VEVENT
DTSTART;TZID=UTC:20250703T080000
DTEND;TZID=UTC:20250706T170000
DTSTAMP:20260421T190111
CREATED:20250703T051805Z
LAST-MODIFIED:20250703T051805Z
UID:8897-1751529600-1751821200@fan.ad
SUMMARY:XXXIV  CTO. DE ESPAÑA "OPEN" DE VERANO MASTERS
DESCRIPTION:C.N.Metropole Las Palmas de G.C \n3-6/07/2025 \nParticipants: \n\nEstela Montejo\nAyça Aydin\nJordi Santañes
URL:https://fan.ad/event/xxxiv-cto-de-espana-open-de-verano-masters/
CATEGORIES:Màsters
ATTACH;FMTTYPE=image/jpeg:https://fan.ad/wp-content/uploads/2025/07/28052025_MASTER_METROPOLE.jpg
END:VEVENT
BEGIN:VEVENT
DTSTART;TZID=UTC:20250704T080000
DTEND;TZID=UTC:20250704T170000
DTSTAMP:20260421T190111
CREATED:20250702T144641Z
LAST-MODIFIED:20250705T174227Z
UID:8893-1751616000-1751648400@fan.ad
SUMMARY:CAMPEONATO DE ESPAÑA ALEVIN PROMOCIÓN – INFANTIL DE SEGUNDA DIVISIÓN DE VERANO DE NATACION ARTISTICA
DESCRIPTION:Campionat d’Espanya Infantil \n4-6/07/2025 Barcelona \nCONVOCATÒRIA_NA_20_C ESPANYA INFANTIL_BCN
URL:https://fan.ad/event/campeonato-de-espana-alevin-promocion-infantil-de-segunda-division-de-verano-de-natacion-artistica/
CATEGORIES:Artística
ATTACH;FMTTYPE=image/png:https://fan.ad/wp-content/uploads/2025/07/1750853308_7253.png
END:VEVENT
BEGIN:VEVENT
DTSTART;TZID=UTC:20250712T080000
DTEND;TZID=UTC:20250718T170000
DTSTAMP:20260421T190111
CREATED:20250629T054118Z
LAST-MODIFIED:20250629T054422Z
UID:8864-1752307200-1752858000@fan.ad
SUMMARY:World Aquatics Championships-OW-Singapore 2025
DESCRIPTION:12-18/07/2025 \nSingapore \nCONVOCATORIA_C MON AAOO_SINGAPORE 2025
URL:https://fan.ad/event/world-aquatics-championships-ow-singapore-2025/
CATEGORIES:Aigües Obertes,Competició Internacional
ATTACH;FMTTYPE=image/png:https://fan.ad/wp-content/uploads/2025/06/LOGO-SINGAPORE.png
END:VEVENT
BEGIN:VEVENT
DTSTART;TZID=UTC:20250717T000000
DTEND;TZID=UTC:20250720T000000
DTSTAMP:20260421T190111
CREATED:20250609T132106Z
LAST-MODIFIED:20250702T143527Z
UID:8657-1752710400-1752969600@fan.ad
SUMMARY:XLVI CAMPEONATO DE ESPAÑA INFANTIL DE NATACION DE VERANO P50
DESCRIPTION:17-20/07/2025 \nCiudad Real (Polid. Rey Juan Carlos) \nCONVOCATÒRIA_CAMPIONAT D’ESPANYA ESTIU INFANTIL_2025 \n 
URL:https://fan.ad/event/xlvi-campeonato-de-espana-infantil-de-natacion-de-verano-p50-2/
CATEGORIES:Natació
END:VEVENT
BEGIN:VEVENT
DTSTART;TZID=UTC:20250722T000000
DTEND;TZID=UTC:20250804T000000
DTSTAMP:20260421T190111
CREATED:20250609T132058Z
LAST-MODIFIED:20250629T054340Z
UID:8655-1753142400-1754265600@fan.ad
SUMMARY:World Aquatics Championships-SW-Singapore 2025
DESCRIPTION:22/07 al 03/08/2025 \nSingapore \nCONVOCATORIA_2025_C MON_SW_ SINGAPORE
URL:https://fan.ad/event/world-aquatics-championships-sw-singapore-2025/
CATEGORIES:Competició Internacional,Natació
ATTACH;FMTTYPE=image/jpeg:https://fan.ad/wp-content/uploads/2025/06/7fafa8e5-db48-4647-bfca-3fbf5ccfa45b-Hs4l5C.jpg
END:VEVENT
BEGIN:VEVENT
DTSTART;TZID=UTC:20250724T000000
DTEND;TZID=UTC:20250727T000000
DTSTAMP:20260421T190111
CREATED:20250609T132106Z
LAST-MODIFIED:20250709T045714Z
UID:8656-1753315200-1753574400@fan.ad
SUMMARY:XLVI CAMPEONATO DE ESPAÑA JUNIOR DE NATACION DE VERANO P50
DESCRIPTION:24-27/07/2025 \nCastellón (Municipal Olímpica) \nCONVOCATÒRIA_CAMPIONAT D’ESPANYA ESTIU JUNIOR_2025
URL:https://fan.ad/event/xlvi-campeonato-de-espana-junior-de-natacion-de-verano-p50-2/
CATEGORIES:Natació
END:VEVENT
BEGIN:VEVENT
DTSTART;TZID=UTC:20250910T203000
DTEND;TZID=UTC:20250910T213000
DTSTAMP:20260421T190111
CREATED:20250822T165643Z
LAST-MODIFIED:20250822T165643Z
UID:9058-1757536200-1757539800@fan.ad
SUMMARY:Reunió informativa programa NEDAR ÉS VIDA
DESCRIPTION:Convocatòria \nDimecres 10/09/2025 \n20h30 \nCTEO- Centre de Tecnificació Esportiva d’Ordino
URL:https://fan.ad/event/reunio-informativa-programa-nedar-es-vida/
LOCATION:Centre de Tecnificació Esportiva d’Ordino\, Ordino\, AD300\, Andorra
CATEGORIES:Reunió informativa
END:VEVENT
BEGIN:VEVENT
DTSTART;TZID=UTC:20250918T193000
DTEND;TZID=UTC:20250918T210000
DTSTAMP:20260421T190111
CREATED:20250822T164221Z
LAST-MODIFIED:20250822T164916Z
UID:9053-1758223800-1758229200@fan.ad
SUMMARY:LLIURAMENT PREMIS COPA D'ANDORRA 2024/2025
DESCRIPTION:Lliurament premis Copa d’Andorra 2024/2025 \n18/09/2025 a les 19h30 \nLloc: Centre de Formació Professional d’Aixovall \n\nNatació\nNatació Artística\nMàsters\n\nPremiacions Natació 2024/25 \nPremiacions Natació Artística 2024/25 \nPremiacions Màster 2024/25 \n  \n 
URL:https://fan.ad/event/lliurament-premis-copa-dandorra-2024-2025/
LOCATION:Centre de Formació Professional d’Aixovall\, Andorra
CATEGORIES:Artística,Lliurament premis,Màsters,Natació
END:VEVENT
BEGIN:VEVENT
DTSTART;TZID=UTC:20250920T100000
DTEND;TZID=UTC:20250920T180000
DTSTAMP:20260421T190111
CREATED:20250715T141619Z
LAST-MODIFIED:20250715T141619Z
UID:8965-1758362400-1758391200@fan.ad
SUMMARY:TALLER PREVENCIÓ DE L'ABÚS SEXUAL EN EL MÓN ESPORTIU
DESCRIPTION:Taller adreçat al món esportiu\, especialment de la natació\, amb èmfasi envers als entrenadors i els tècnics\, però oberta a qualsevol altra persona o estament relacionats amb l’entorn de l’entrenament de l’esportista. \nDATA: Dissabte 20/09/2025 \nHORARI:10h00 a 13h00 i 15h00 a 18h00 \nLLOC: Centre de Tecnificació Esportiva d’Ordino \nINSCRIPCIÓ \nPlaces limitades
URL:https://fan.ad/event/taller-prevencio-de-labus-sexual-en-el-mon-esportiu/
LOCATION:Centre de Tecnificació Esportiva d’Ordino\, Ordino\, AD300\, Andorra
CATEGORIES:Formació
ATTACH;FMTTYPE=image/jpeg:https://fan.ad/wp-content/uploads/2025/07/PREVENCIO.jpg
ORGANIZER;CN="Federaci%C3%B3 Andorrana de Nataci%C3%B3":MAILTO:nataliameca@fan.ad
END:VEVENT
BEGIN:VEVENT
DTSTART;TZID=UTC:20251010T203000
DTEND;TZID=UTC:20251010T220000
DTSTAMP:20260421T190111
CREATED:20250925T045211Z
LAST-MODIFIED:20250925T045211Z
UID:9123-1760128200-1760133600@fan.ad
SUMMARY:PRSENTACIÓ PROJECTE NACIONAL DE WATERPOLO
DESCRIPTION:👋Ei! Tu que has format part de la família de la FAN ara és el moment! \nCom bé sabràs de cara als Jocs dels Petits Estats de Mònaco 2027 s’ha decidit incloure en el programa esportiu el waterpolo i nosaltres no volem quedar-nos fora! \nPer això volem convidar-te a una trobada en la qual t’explicarem com ho volem fer per crear PROJECTE EQUIP NACIONAL DE WATERPOLO!🤽‍♂️🤽‍♀️ \n📅 Divendres 10 d’octubre de 2025 🕣 20h30 📍 CTO d’Ordino \n📩 Confirma l’assistència AQUÍ. \nhttps://forms.gle/AgRp7FqpKfswcqqS8 \n🚀T’hi esperem!
URL:https://fan.ad/event/prsentacio-projecte-nacional-de-waterpolo/
LOCATION:Centre de Tecnificació Esportiva d’Ordino\, Ordino\, AD300\, Andorra
CATEGORIES:Reunió informativa,Waterpolo
ATTACH;FMTTYPE=image/png:https://fan.ad/wp-content/uploads/2025/09/WATERPOLO-CARTEL.png
ORGANIZER;CN="Federaci%C3%B3 Andorrana de Nataci%C3%B3":MAILTO:nataliameca@fan.ad
END:VEVENT
BEGIN:VEVENT
DTSTART;TZID=UTC:20251018T083000
DTEND;TZID=UTC:20251018T130000
DTSTAMP:20260421T190111
CREATED:20251004T073203Z
LAST-MODIFIED:20251019T155545Z
UID:9141-1760776200-1760792400@fan.ad
SUMMARY:1ª Jornada Lliga Andorrana Absoluta
DESCRIPTION:1ª Jornada Lliga Catalana Prebenjamí Benjamí Aleví Infantil\n1ª Jornada Lliga Andorrana Absoluta\nPiscina Complex Esportiu d’Encamp\nEscalfament 09h00\nInici competició 10h00\nRESULTATS1J LLIGA AND_FCN\nNormativa Lligues 2025/2026
URL:https://fan.ad/event/1a-jornada-lliga-andorrana-absoluta-2/
LOCATION:Complex Esportiu i Socio-Cultural d’Encamp\, Encamp\, AD200\, Andorra
CATEGORIES:Competició nacional,Lliga Catalana,Natació
ORGANIZER;CN="Federaci%C3%B3 Andorrana de Nataci%C3%B3":MAILTO:nataliameca@fan.ad
END:VEVENT
BEGIN:VEVENT
DTSTART;TZID=UTC:20251018T090000
DTEND;TZID=UTC:20251018T123000
DTSTAMP:20260421T190111
CREATED:20251005T044351Z
LAST-MODIFIED:20251019T163535Z
UID:9152-1760778000-1760790600@fan.ad
SUMMARY:1ª Jornada Lliga Andorrana de Figures
DESCRIPTION:Dissabte 18/10/2025 \nPiscina LAUesport \nEscalfament 09h00 \nInici competició 09h45 \n\nRESULTATS ALEVÍ_OBLIGATORIES\nRESULTATS ALEVÍ_GRUP 2\nRESULTATS INFANTIL_140j\nRESULTATS INFANTIL_GRUP 1\nRESULTATS INFANTIL_GRUP 2\nRESULTATS JUNIOR\nRESULTATS ESCOLA INF-JUN\n\nNA_03_NORMATIVA LLIGA ANDORRANA DE FIGURES AQUA i FIGURES ESCOLA \n 
URL:https://fan.ad/event/1a-jornada-lliga-andorrana-de-figures-2/
LOCATION:LAUesport\, Plaça de Calonge-Sant Antoni s/n\, Sant Julià de Lòria\, AD600\, Andorra
CATEGORIES:Artística,Competició nacional
ATTACH;FMTTYPE=image/jpeg:https://fan.ad/wp-content/uploads/2025/10/1_LLIGAANDFIGURES.jpg
ORGANIZER;CN="Federaci%C3%B3 Andorrana de Nataci%C3%B3":MAILTO:nataliameca@fan.ad
END:VEVENT
BEGIN:VEVENT
DTSTART;TZID=UTC:20251018T150000
DTEND;TZID=UTC:20251018T180000
DTSTAMP:20260421T190111
CREATED:20251005T050333Z
LAST-MODIFIED:20251005T051148Z
UID:9162-1760799600-1760810400@fan.ad
SUMMARY:Proves de nivell RFEN_N. Artística
DESCRIPTION:Dissabte 18/10/2025 \n\nPiscina LAUesport\n15h00\n\nInformació
URL:https://fan.ad/event/proves-de-nivell/
LOCATION:LAUesport\, Plaça de Calonge-Sant Antoni s/n\, Sant Julià de Lòria\, AD600\, Andorra
CATEGORIES:Artística
ORGANIZER;CN="Federaci%C3%B3 Andorrana de Nataci%C3%B3":MAILTO:nataliameca@fan.ad
END:VEVENT
BEGIN:VEVENT
DTSTART;TZID=UTC:20251019T080000
DTEND;TZID=UTC:20251019T170000
DTSTAMP:20260421T190111
CREATED:20251015T093903Z
LAST-MODIFIED:20251015T093903Z
UID:9275-1760860800-1760893200@fan.ad
SUMMARY:69è Trofeu Fèlix Serra Santamans
DESCRIPTION:19/10/2025 MANRESA \nCONVOC_CCTROFEUS_FELIXSERRA \n 
URL:https://fan.ad/event/69e-trofeu-felix-serra-santamans/
LOCATION:CN Manresa\, Manresa\, CN - 25m c/ Viladordis\, 5 08241\, Spain
CATEGORIES:Circuit,FCN,Natació
ATTACH;FMTTYPE=image/png:https://fan.ad/wp-content/uploads/2025/10/d9a9c3eb-cd5d-4f21-835f-66c4ee25e7fe.png
END:VEVENT
BEGIN:VEVENT
DTSTART;TZID=UTC:20251027T080000
DTEND;TZID=UTC:20251031T180000
DTSTAMP:20260421T190111
CREATED:20251027T155048Z
LAST-MODIFIED:20251027T155048Z
UID:9336-1761552000-1761933600@fan.ad
SUMMARY:Entrenaments Natació_Tot Sants
DESCRIPTION:Convocatòria NATACIÓ TOT SANTS
URL:https://fan.ad/event/entrenaments-natacio_tot-sants/
LOCATION:Centre Esportiu Els Serradells\, Andorra la Vella\, AD500\, Andorra
CATEGORIES:Entrenaments,Natació
ORGANIZER;CN="Federaci%C3%B3 Andorrana de Nataci%C3%B3":MAILTO:nataliameca@fan.ad
END:VEVENT
BEGIN:VEVENT
DTSTART;TZID=UTC:20251107T183000
DTEND;TZID=UTC:20251107T200000
DTSTAMP:20260421T190111
CREATED:20251005T051917Z
LAST-MODIFIED:20251108T040145Z
UID:9168-1762540200-1762545600@fan.ad
SUMMARY:LLIGA BASE CROL 2025/2026
DESCRIPTION:Divendres 07/11/2025 \n\nLAUesport\nEscalfament 18h15\nInici competició 18h45\n\n20251107_RESULTATS LLIGA BASE CROL \nNormativa LLIGA BASE NATACIÓ 2025/2026
URL:https://fan.ad/event/lliga-base-crol-2025-2026/
LOCATION:LAUesport\, Plaça de Calonge-Sant Antoni s/n\, Sant Julià de Lòria\, AD600\, Andorra
CATEGORIES:Competició nacional,Natació
ATTACH;FMTTYPE=image/jpeg:https://fan.ad/wp-content/uploads/2025/11/LLIGABASECROL.jpg
ORGANIZER;CN="Federaci%C3%B3 Andorrana de Nataci%C3%B3":MAILTO:nataliameca@fan.ad
END:VEVENT
BEGIN:VEVENT
DTSTART;TZID=UTC:20251108T083000
DTEND;TZID=UTC:20251108T130000
DTSTAMP:20260421T190111
CREATED:20251005T055528Z
LAST-MODIFIED:20251109T065416Z
UID:9182-1762590600-1762606800@fan.ad
SUMMARY:2ª Jornada Lliga Andorrana Absoluta
DESCRIPTION:2ª Jornada Lliga Catalana Prebenjamí Benjamí Aleví Infantil\n2ª Jornada Lliga Andorrana Absoluta\nPiscina LAUesport\nEscalfament 09h00\nInici competició 10h15\n\nN_02_NORMATIVA LLIGUES CATALANES_LLIGA ANDORRANA ABS_2025_26_26092025 \n 
URL:https://fan.ad/event/2a-jornada-lliga-andorrana-absoluta-3/
LOCATION:LAUesport\, Plaça de Calonge-Sant Antoni s/n\, Sant Julià de Lòria\, AD600\, Andorra
CATEGORIES:Competició nacional,Lliga Catalana,Natació
ATTACH;FMTTYPE=image/jpeg:https://fan.ad/wp-content/uploads/2025/11/2jlligaandabs.jpg
ORGANIZER;CN="Federaci%C3%B3 Andorrana de Nataci%C3%B3":MAILTO:nataliameca@fan.ad
END:VEVENT
BEGIN:VEVENT
DTSTART;TZID=UTC:20251115T143000
DTEND;TZID=UTC:20251115T193000
DTSTAMP:20260421T190111
CREATED:20251005T062903Z
LAST-MODIFIED:20251113T095834Z
UID:9198-1763217000-1763235000@fan.ad
SUMMARY:XXXV TROFEU HIPOCAMPUS
DESCRIPTION:Dissabte 15/11/2025\nPiscina Serradells\, 50m 8 carrers cronometrador manual\nEscalfament 14h30\nInici competició 16h30\n\n20251115_SERIES XXXV HIPOCAMPUS \nXXXV TRF. HIPOCAMPUS_Normativa
URL:https://fan.ad/event/xxxv-trofeu-hipocampus/
LOCATION:Centre Esportiu Els Serradells\, Andorra la Vella\, AD500\, Andorra
CATEGORIES:Màsters,Natació,Trofeus Clubs
ATTACH;FMTTYPE=image/jpeg:https://fan.ad/wp-content/uploads/2025/10/Poster-XXXV-Trf-Hipocampus_page-0001.jpg
ORGANIZER;CN="C.N.Serradells":MAILTO:sdrayo74@gmail.com
END:VEVENT
BEGIN:VEVENT
DTSTART;VALUE=DATE:20251129
DTEND;VALUE=DATE:20251201
DTSTAMP:20260421T190111
CREATED:20251031T113727Z
LAST-MODIFIED:20251124T054421Z
UID:9351-1764374400-1764547199@fan.ad
SUMMARY:CAMPEONATO DE ESPAÑA DE FIGURAS INFANTIL Y RUTINAS TÉCNICAS JUNIOR DE NATACIÓN ARTÍSTICA
DESCRIPTION:Dates: 29-30/11/2025 \nPiscina: Can Llong- CN Sabadell \nCONVOCATORIA_INF JUN_CESP_SABADELL
URL:https://fan.ad/event/campeonato-de-espana-de-figuras-infantil-y-rutinas-tecnicas-junior-de-natacion-artistica/
LOCATION:CN Sabadell\, Carrer Budapest\, 1. 08206\, Sabadell.\, Sabadell\, Spain
CATEGORIES:Artística,RFEN
ATTACH;FMTTYPE=image/jpeg:https://fan.ad/wp-content/uploads/2025/11/1763377242_5452.jpg
END:VEVENT
END:VCALENDAR