BEGIN:VCALENDAR
VERSION:2.0
PRODID:-//FEDERACIÓ ANDORRANA DE NATACIÓ - ECPv6.15.11//NONSGML v1.0//EN
CALSCALE:GREGORIAN
METHOD:PUBLISH
X-WR-CALNAME:FEDERACIÓ ANDORRANA DE NATACIÓ
X-ORIGINAL-URL:https://fan.ad
X-WR-CALDESC:Esdeveniments per FEDERACIÓ ANDORRANA DE NATACIÓ
REFRESH-INTERVAL;VALUE=DURATION:PT1H
X-Robots-Tag:noindex
X-PUBLISHED-TTL:PT1H
BEGIN:VTIMEZONE
TZID:UTC
BEGIN:STANDARD
TZOFFSETFROM:+0000
TZOFFSETTO:+0000
TZNAME:UTC
DTSTART:20250101T000000
END:STANDARD
END:VTIMEZONE
BEGIN:VEVENT
DTSTART;VALUE=DATE:20260509
DTEND;VALUE=DATE:20260510
DTSTAMP:20260422T104838
CREATED:20251005T064240Z
LAST-MODIFIED:20251005T064240Z
UID:9207-1778284800-1778371199@fan.ad
SUMMARY:2026_MEMORIAL FELICIÀ CUEN
DESCRIPTION:Dissabte 09/05/2026\nPiscina Col·legi Sant Ermengol\n\n 
URL:https://fan.ad/event/2026_memorial-felicia-cuen/
LOCATION:Col·legi Sant Ermengol\, C/Les Canals\, 86 AD500 Andorra La Vella\, AD500\, Andorra
CATEGORIES:Màsters,Natació,Trofeus Clubs
ORGANIZER;CN="CLESER":MAILTO:cleser@ermengol.safaurgell.org
END:VEVENT
BEGIN:VEVENT
DTSTART;TZID=UTC:20260509T080000
DTEND;TZID=UTC:20260509T130000
DTSTAMP:20260422T104838
CREATED:20260309T174653Z
LAST-MODIFIED:20260322T074420Z
UID:9798-1778313600-1778331600@fan.ad
SUMMARY:XXIV MEMORIAL FELICIÀ CUEN
DESCRIPTION:Dissabte 09/05/2026 \n09h00 \nReglament actualitzat Memorial Felicià 2026 \n 
URL:https://fan.ad/event/xxiv-memorial-felicia-cuen/
LOCATION:Col·legi Sant Ermengol\, C/Les Canals\, 86 AD500 Andorra La Vella\, AD500\, Andorra
CATEGORIES:Natació,Trofeus Clubs
ORGANIZER;CN="CLESER":MAILTO:cleser@ermengol.safaurgell.org
END:VEVENT
BEGIN:VEVENT
DTSTART;TZID=UTC:20260516T083000
DTEND;TZID=UTC:20260516T130000
DTSTAMP:20260422T104838
CREATED:20251005T064726Z
LAST-MODIFIED:20260210T102318Z
UID:9212-1778920200-1778936400@fan.ad
SUMMARY:2026_XXVI TROFEU CANÒLICH DE NATACIÓ
DESCRIPTION:Dissabte 16/05/2026\nSessió matí inici 10h00\nReglament XXVI Trofeu Canòlich de Natació
URL:https://fan.ad/event/2026_trofeu-canolich/
LOCATION:LAUesport\, Plaça de Calonge-Sant Antoni s/n\, Sant Julià de Lòria\, AD600\, Andorra
CATEGORIES:Màsters,Natació,Trofeus Clubs
ORGANIZER;CN="LAUesport_Nataci%C3%B3":MAILTO:l.montes@lauesport.ad
END:VEVENT
END:VCALENDAR