BEGIN:VCALENDAR
VERSION:2.0
PRODID:-//FEDERACIÓ ANDORRANA DE NATACIÓ - ECPv6.15.11//NONSGML v1.0//EN
CALSCALE:GREGORIAN
METHOD:PUBLISH
X-WR-CALNAME:FEDERACIÓ ANDORRANA DE NATACIÓ
X-ORIGINAL-URL:https://fan.ad
X-WR-CALDESC:Esdeveniments per FEDERACIÓ ANDORRANA DE NATACIÓ
REFRESH-INTERVAL;VALUE=DURATION:PT1H
X-Robots-Tag:noindex
X-PUBLISHED-TTL:PT1H
BEGIN:VTIMEZONE
TZID:UTC
BEGIN:STANDARD
TZOFFSETFROM:+0000
TZOFFSETTO:+0000
TZNAME:UTC
DTSTART:20250101T000000
END:STANDARD
END:VTIMEZONE
BEGIN:VEVENT
DTSTART;TZID=UTC:20260207T083000
DTEND;TZID=UTC:20260207T130000
DTSTAMP:20260423T201102
CREATED:20251005T060457Z
LAST-MODIFIED:20260206T084033Z
UID:9190-1770453000-1770469200@fan.ad
SUMMARY:5ª Jornada Lliga Andorrana Absoluta
DESCRIPTION:5ª Jornada Lliga Catalana Prebenjamí Benjamí Aleví\n4ª Jornada Lliga Catalana Infantil\n5ª Jornada Lliga Andorrana Absoluta\nPiscina Encamp\nEscalfament 09h00\nInici competició 10h00\n20260207_SERIES 5J LLIGA AND_FCN\n\n 
URL:https://fan.ad/event/5a-jornada-lliga-andorrana-absoluta-2/
LOCATION:Complex Esportiu i Socio-Cultural d’Encamp\, Encamp\, AD200\, Andorra
CATEGORIES:Competició nacional,Lliga Catalana,Natació
ATTACH;FMTTYPE=image/jpeg:https://fan.ad/wp-content/uploads/2026/02/CARTELLS-FAN.jpg.jpeg
ORGANIZER;CN="Federaci%C3%B3 Andorrana de Nataci%C3%B3":MAILTO:nataliameca@fan.ad
END:VEVENT
END:VCALENDAR