BEGIN:VCALENDAR
VERSION:2.0
PRODID:-//FEDERACIÓ ANDORRANA DE NATACIÓ - ECPv6.15.11//NONSGML v1.0//EN
CALSCALE:GREGORIAN
METHOD:PUBLISH
X-ORIGINAL-URL:https://fan.ad
X-WR-CALDESC:Esdeveniments per FEDERACIÓ ANDORRANA DE NATACIÓ
REFRESH-INTERVAL;VALUE=DURATION:PT1H
X-Robots-Tag:noindex
X-PUBLISHED-TTL:PT1H
BEGIN:VTIMEZONE
TZID:UTC
BEGIN:STANDARD
TZOFFSETFROM:+0000
TZOFFSETTO:+0000
TZNAME:UTC
DTSTART:20240101T000000
END:STANDARD
END:VTIMEZONE
BEGIN:VEVENT
DTSTART;TZID=UTC:20251212T180000
DTEND;TZID=UTC:20251212T200000
DTSTAMP:20260423T232448
CREATED:20251005T044852Z
LAST-MODIFIED:20251211T160332Z
UID:9154-1765562400-1765569600@fan.ad
SUMMARY:1ª Jornada LLIGA BASE ARTÍSTICA
DESCRIPTION:Divendres 12/12/2025 \nPiscina LAUesport \n\nEscalfament 18h00\nInici competició 18h45\n\n20251212_SERIES 1J LLIGA BASE ARTISTICA \nNA_02_NORMATIVA LLIGA BASE ARTÍSTICA 25_26
URL:https://fan.ad/event/1a-jornada-lliga-base-artistica-2/
LOCATION:LAUesport\, Plaça de Calonge-Sant Antoni s/n\, Sant Julià de Lòria\, AD600\, Andorra
CATEGORIES:Artística,Competició nacional
ATTACH;FMTTYPE=image/jpeg:https://fan.ad/wp-content/uploads/2025/10/1_LLIGABASEARTISTICA.jpg
ORGANIZER;CN="Federaci%C3%B3 Andorrana de Nataci%C3%B3":MAILTO:nataliameca@fan.ad
END:VEVENT
BEGIN:VEVENT
DTSTART;VALUE=DATE:20251220
DTEND;VALUE=DATE:20251221
DTSTAMP:20260423T232448
CREATED:20251005T063446Z
LAST-MODIFIED:20251218T160613Z
UID:9202-1766188800-1766275199@fan.ad
SUMMARY:TROFEU NADAL 2025/2026
DESCRIPTION:Dissabte 20/12/2025\nPiscina Serradells\, 25m- 8 carrers\nSessió matí 10h00- escalfament 09h00\nSessió tarda 16h30-escalfament 15h30\n\nN_04_TRF NADAL NORMATIVA \n20251220_SERIES TROFEU NADAL \nHORARIS TRF NADAL 2025
URL:https://fan.ad/event/trofeu-nadal-2025-2026/
LOCATION:Centre Esportiu Els Serradells\, Andorra la Vella\, AD500\, Andorra
CATEGORIES:Competició nacional,Màsters,Natació
ATTACH;FMTTYPE=image/jpeg:https://fan.ad/wp-content/uploads/2025/11/TRF-NADAL.jpg
ORGANIZER;CN="Federaci%C3%B3 Andorrana de Nataci%C3%B3":MAILTO:nataliameca@fan.ad
END:VEVENT
END:VCALENDAR