BEGIN:VCALENDAR
VERSION:2.0
PRODID:-//FEDERACIÓ ANDORRANA DE NATACIÓ - ECPv6.15.11//NONSGML v1.0//EN
CALSCALE:GREGORIAN
METHOD:PUBLISH
X-ORIGINAL-URL:https://fan.ad
X-WR-CALDESC:Esdeveniments per FEDERACIÓ ANDORRANA DE NATACIÓ
REFRESH-INTERVAL;VALUE=DURATION:PT1H
X-Robots-Tag:noindex
X-PUBLISHED-TTL:PT1H
BEGIN:VTIMEZONE
TZID:UTC
BEGIN:STANDARD
TZOFFSETFROM:+0000
TZOFFSETTO:+0000
TZNAME:UTC
DTSTART:20250101T000000
END:STANDARD
END:VTIMEZONE
BEGIN:VEVENT
DTSTART;VALUE=DATE:20260214
DTEND;VALUE=DATE:20260216
DTSTAMP:20260422T134334
CREATED:20260127T110027Z
LAST-MODIFIED:20260206T105051Z
UID:9677-1771027200-1771199999@fan.ad
SUMMARY:47è Trofeu Alejandro López - CN Sant Andreu
DESCRIPTION:14/02/2026- 15/02/2026\nCONVOCATÒRIA
URL:https://fan.ad/event/47e-trofeu-alejandro-lopez-cn-sant-andreu/
LOCATION:St Andreu\, CN ( P.Serrat)\, Passeig Fabra i Puig\, 47 08030\, Barcelona\, 08030\, Spain
CATEGORIES:Circuit,Natació
ATTACH;FMTTYPE=image/jpeg:https://fan.ad/wp-content/uploads/2026/01/4f92415a-bf98-42b9-86a5-e602bbbea144.jpg
END:VEVENT
END:VCALENDAR