BEGIN:VCALENDAR
VERSION:2.0
PRODID:-//FEDERACIÓ ANDORRANA DE NATACIÓ - ECPv6.15.11//NONSGML v1.0//EN
CALSCALE:GREGORIAN
METHOD:PUBLISH
X-WR-CALNAME:FEDERACIÓ ANDORRANA DE NATACIÓ
X-ORIGINAL-URL:https://fan.ad
X-WR-CALDESC:Esdeveniments per FEDERACIÓ ANDORRANA DE NATACIÓ
REFRESH-INTERVAL;VALUE=DURATION:PT1H
X-Robots-Tag:noindex
X-PUBLISHED-TTL:PT1H
BEGIN:VTIMEZONE
TZID:UTC
BEGIN:STANDARD
TZOFFSETFROM:+0000
TZOFFSETTO:+0000
TZNAME:UTC
DTSTART:20240101T000000
END:STANDARD
END:VTIMEZONE
BEGIN:VEVENT
DTSTART;VALUE=DATE:20251129
DTEND;VALUE=DATE:20251201
DTSTAMP:20260424T063339
CREATED:20251031T113727Z
LAST-MODIFIED:20251124T054421Z
UID:9351-1764374400-1764547199@fan.ad
SUMMARY:CAMPEONATO DE ESPAÑA DE FIGURAS INFANTIL Y RUTINAS TÉCNICAS JUNIOR DE NATACIÓN ARTÍSTICA
DESCRIPTION:Dates: 29-30/11/2025 \nPiscina: Can Llong- CN Sabadell \nCONVOCATORIA_INF JUN_CESP_SABADELL
URL:https://fan.ad/event/campeonato-de-espana-de-figuras-infantil-y-rutinas-tecnicas-junior-de-natacion-artistica/
LOCATION:CN Sabadell\, Carrer Budapest\, 1. 08206\, Sabadell.\, Sabadell\, Spain
CATEGORIES:Artística,RFEN
ATTACH;FMTTYPE=image/jpeg:https://fan.ad/wp-content/uploads/2025/11/1763377242_5452.jpg
END:VEVENT
END:VCALENDAR