BEGIN:VCALENDAR
VERSION:2.0
PRODID:-//FEDERACIÓ ANDORRANA DE NATACIÓ - ECPv6.15.11//NONSGML v1.0//EN
CALSCALE:GREGORIAN
METHOD:PUBLISH
X-ORIGINAL-URL:https://fan.ad
X-WR-CALDESC:Esdeveniments per FEDERACIÓ ANDORRANA DE NATACIÓ
REFRESH-INTERVAL;VALUE=DURATION:PT1H
X-Robots-Tag:noindex
X-PUBLISHED-TTL:PT1H
BEGIN:VTIMEZONE
TZID:UTC
BEGIN:STANDARD
TZOFFSETFROM:+0000
TZOFFSETTO:+0000
TZNAME:UTC
DTSTART:20240101T000000
END:STANDARD
END:VTIMEZONE
BEGIN:VEVENT
DTSTART;TZID=UTC:20251018T090000
DTEND;TZID=UTC:20251018T123000
DTSTAMP:20260424T081349
CREATED:20251005T044351Z
LAST-MODIFIED:20251019T163535Z
UID:9152-1760778000-1760790600@fan.ad
SUMMARY:1ª Jornada Lliga Andorrana de Figures
DESCRIPTION:Dissabte 18/10/2025 \nPiscina LAUesport \nEscalfament 09h00 \nInici competició 09h45 \n\nRESULTATS ALEVÍ_OBLIGATORIES\nRESULTATS ALEVÍ_GRUP 2\nRESULTATS INFANTIL_140j\nRESULTATS INFANTIL_GRUP 1\nRESULTATS INFANTIL_GRUP 2\nRESULTATS JUNIOR\nRESULTATS ESCOLA INF-JUN\n\nNA_03_NORMATIVA LLIGA ANDORRANA DE FIGURES AQUA i FIGURES ESCOLA \n 
URL:https://fan.ad/event/1a-jornada-lliga-andorrana-de-figures-2/
LOCATION:LAUesport\, Plaça de Calonge-Sant Antoni s/n\, Sant Julià de Lòria\, AD600\, Andorra
CATEGORIES:Artística,Competició nacional
ATTACH;FMTTYPE=image/jpeg:https://fan.ad/wp-content/uploads/2025/10/1_LLIGAANDFIGURES.jpg
ORGANIZER;CN="Federaci%C3%B3 Andorrana de Nataci%C3%B3":MAILTO:nataliameca@fan.ad
END:VEVENT
BEGIN:VEVENT
DTSTART;TZID=UTC:20251018T150000
DTEND;TZID=UTC:20251018T180000
DTSTAMP:20260424T081349
CREATED:20251005T050333Z
LAST-MODIFIED:20251005T051148Z
UID:9162-1760799600-1760810400@fan.ad
SUMMARY:Proves de nivell RFEN_N. Artística
DESCRIPTION:Dissabte 18/10/2025 \n\nPiscina LAUesport\n15h00\n\nInformació
URL:https://fan.ad/event/proves-de-nivell/
LOCATION:LAUesport\, Plaça de Calonge-Sant Antoni s/n\, Sant Julià de Lòria\, AD600\, Andorra
CATEGORIES:Artística
ORGANIZER;CN="Federaci%C3%B3 Andorrana de Nataci%C3%B3":MAILTO:nataliameca@fan.ad
END:VEVENT
END:VCALENDAR