BEGIN:VCALENDAR
VERSION:2.0
PRODID:-//FEDERACIÓ ANDORRANA DE NATACIÓ - ECPv6.15.11//NONSGML v1.0//EN
CALSCALE:GREGORIAN
METHOD:PUBLISH
X-ORIGINAL-URL:https://fan.ad
X-WR-CALDESC:Esdeveniments per FEDERACIÓ ANDORRANA DE NATACIÓ
REFRESH-INTERVAL;VALUE=DURATION:PT1H
X-Robots-Tag:noindex
X-PUBLISHED-TTL:PT1H
BEGIN:VTIMEZONE
TZID:UTC
BEGIN:STANDARD
TZOFFSETFROM:+0000
TZOFFSETTO:+0000
TZNAME:UTC
DTSTART:20240101T000000
END:STANDARD
END:VTIMEZONE
BEGIN:VEVENT
DTSTART;TZID=UTC:20250704T080000
DTEND;TZID=UTC:20250704T170000
DTSTAMP:20260424T130119
CREATED:20250702T144641Z
LAST-MODIFIED:20250705T174227Z
UID:8893-1751616000-1751648400@fan.ad
SUMMARY:CAMPEONATO DE ESPAÑA ALEVIN PROMOCIÓN – INFANTIL DE SEGUNDA DIVISIÓN DE VERANO DE NATACION ARTISTICA
DESCRIPTION:Campionat d’Espanya Infantil \n4-6/07/2025 Barcelona \nCONVOCATÒRIA_NA_20_C ESPANYA INFANTIL_BCN
URL:https://fan.ad/event/campeonato-de-espana-alevin-promocion-infantil-de-segunda-division-de-verano-de-natacion-artistica/
CATEGORIES:Artística
ATTACH;FMTTYPE=image/png:https://fan.ad/wp-content/uploads/2025/07/1750853308_7253.png
END:VEVENT
END:VCALENDAR