BEGIN:VCALENDAR
VERSION:2.0
PRODID:-//FEDERACIÓ ANDORRANA DE NATACIÓ - ECPv6.15.11//NONSGML v1.0//EN
CALSCALE:GREGORIAN
METHOD:PUBLISH
X-WR-CALNAME:FEDERACIÓ ANDORRANA DE NATACIÓ
X-ORIGINAL-URL:https://fan.ad
X-WR-CALDESC:Esdeveniments per FEDERACIÓ ANDORRANA DE NATACIÓ
REFRESH-INTERVAL;VALUE=DURATION:PT1H
X-Robots-Tag:noindex
X-PUBLISHED-TTL:PT1H
BEGIN:VTIMEZONE
TZID:UTC
BEGIN:STANDARD
TZOFFSETFROM:+0000
TZOFFSETTO:+0000
TZNAME:UTC
DTSTART:20250101T000000
END:STANDARD
END:VTIMEZONE
BEGIN:VEVENT
DTSTART;VALUE=DATE:20260221
DTEND;VALUE=DATE:20260222
DTSTAMP:20260423T234330
CREATED:20260204T103201Z
LAST-MODIFIED:20260213T182441Z
UID:9692-1771632000-1771718399@fan.ad
SUMMARY:Ct. Cat. Ale-Inf-Jr Hivern
DESCRIPTION:Manresa\, 21/02/2026 \n2025_26_12_CONVOCATORIA_JUN_CCAT RTECNICA MANRESA
URL:https://fan.ad/event/ct-cat-ale-inf-jr-hivern/
LOCATION:CN Manresa\, Manresa\, CN - 25m c/ Viladordis\, 5 08241\, Spain
CATEGORIES:Artística,FCN
ATTACH;FMTTYPE=image/png:https://fan.ad/wp-content/uploads/2026/02/9792b68c-ad49-42c8-9046-81ee17eec7e3.png
END:VEVENT
END:VCALENDAR