BEGIN:VCALENDAR
VERSION:2.0
PRODID:-//FEDERACIÓ ANDORRANA DE NATACIÓ - ECPv6.15.11//NONSGML v1.0//EN
CALSCALE:GREGORIAN
METHOD:PUBLISH
X-ORIGINAL-URL:https://fan.ad
X-WR-CALDESC:Esdeveniments per FEDERACIÓ ANDORRANA DE NATACIÓ
REFRESH-INTERVAL;VALUE=DURATION:PT1H
X-Robots-Tag:noindex
X-PUBLISHED-TTL:PT1H
BEGIN:VTIMEZONE
TZID:UTC
BEGIN:STANDARD
TZOFFSETFROM:+0000
TZOFFSETTO:+0000
TZNAME:UTC
DTSTART:20240101T000000
END:STANDARD
END:VTIMEZONE
BEGIN:VEVENT
DTSTART;TZID=UTC:20250504T000000
DTEND;TZID=UTC:20250504T000000
DTSTAMP:20260424T142152
CREATED:20250609T132213Z
LAST-MODIFIED:20250609T144703Z
UID:8683-1746316800-1746316800@fan.ad
SUMMARY:Campionat d’Andorra de Rutines 2025
DESCRIPTION:SEU: Piscina dels SerradellsDATA: 04/05/2025 \nSessió matí: 10h00\nSessió tarda: 16h00 \nRESULTATS MATI\nRESULTATS TARDA\n 
URL:https://fan.ad/event/campionat-dandorra-de-rutines-2025-2/
CATEGORIES:Artística,Competició nacional
ATTACH;FMTTYPE=image/jpeg:https://fan.ad/wp-content/uploads/2025/06/campionatandorra2025-n2TrOn.jpg
END:VEVENT
BEGIN:VEVENT
DTSTART;TZID=UTC:20250523T180000
DTEND;TZID=UTC:20250524T200000
DTSTAMP:20260424T142152
CREATED:20250609T132213Z
LAST-MODIFIED:20250609T144629Z
UID:8682-1748023200-1748116800@fan.ad
SUMMARY:2ª Jornada Lliga Catalana Rutines Tècniques Júnior
DESCRIPTION:Divendres 23-24/05/2025Piscina R. Blume- Barcelona\n \nCONVOCATORIA\n 
URL:https://fan.ad/event/2a-jornada-lliga-catalana-rutines-tecniques-junior/
CATEGORIES:Artística,Lliga Catalana
END:VEVENT
BEGIN:VEVENT
DTSTART;TZID=UTC:20250524T080000
DTEND;TZID=UTC:20250524T130000
DTSTAMP:20260424T142152
CREATED:20250609T132212Z
LAST-MODIFIED:20250609T144619Z
UID:8681-1748073600-1748091600@fan.ad
SUMMARY:4ª Jornada Lliga Catalana de Figures
DESCRIPTION:Dissabte 24/05/2025Categories aleví\, infantil i júnior\nPiscina per determinar\n \nCONVOCATORIA\n 
URL:https://fan.ad/event/4a-jornada-lliga-catalana-de-figures/
LOCATION:Per determinar\, Spain
CATEGORIES:Artística,Lliga Catalana
END:VEVENT
END:VCALENDAR