BEGIN:VCALENDAR
VERSION:2.0
PRODID:-//FEDERACIÓ ANDORRANA DE NATACIÓ - ECPv6.15.11//NONSGML v1.0//EN
CALSCALE:GREGORIAN
METHOD:PUBLISH
X-ORIGINAL-URL:https://fan.ad
X-WR-CALDESC:Esdeveniments per FEDERACIÓ ANDORRANA DE NATACIÓ
REFRESH-INTERVAL;VALUE=DURATION:PT1H
X-Robots-Tag:noindex
X-PUBLISHED-TTL:PT1H
BEGIN:VTIMEZONE
TZID:UTC
BEGIN:STANDARD
TZOFFSETFROM:+0000
TZOFFSETTO:+0000
TZNAME:UTC
DTSTART:20250101T000000
END:STANDARD
END:VTIMEZONE
BEGIN:VEVENT
DTSTART;TZID=UTC:20260320T080000
DTEND;TZID=UTC:20260322T170000
DTSTAMP:20260425T120258
CREATED:20260302T172041Z
LAST-MODIFIED:20260319T113944Z
UID:9782-1773993600-1774198800@fan.ad
SUMMARY:XLV CAMPEONATO DE ESPAÑA DE NATACION INFANTIL – INVIERNO
DESCRIPTION:Sabadell \n20-22/03/2026 \nCONVOC_C.ESP INFANTIL_HIV_P50
URL:https://fan.ad/event/xlv-campeonato-de-espana-de-natacion-infantil-invierno/
LOCATION:CN Sabadell\, Carrer Budapest\, 1. 08206\, Sabadell.\, Sabadell\, Spain
CATEGORIES:Campionats Espanya,Natació
ATTACH;FMTTYPE=image/png:https://fan.ad/wp-content/uploads/2026/03/1773660995_7013.png
END:VEVENT
BEGIN:VEVENT
DTSTART;TZID=UTC:20260320T180000
DTEND;TZID=UTC:20260320T200000
DTSTAMP:20260425T120258
CREATED:20251005T052737Z
LAST-MODIFIED:20260321T052813Z
UID:9175-1774029600-1774036800@fan.ad
SUMMARY:LLIGA BASE BRAÇA 2025/2026
DESCRIPTION:Divendres 20/03/2026 \n\nSant Julià de Lòria\nEscalfament 18h15\nCompetició 18h45\n\n20260320_MEDALLES PER PROVA
URL:https://fan.ad/event/lliga-base-braca-2025-2026/
LOCATION:LAUesport\, Plaça de Calonge-Sant Antoni s/n\, Sant Julià de Lòria\, AD600\, Andorra
CATEGORIES:Competició nacional,Natació
ORGANIZER;CN="Federaci%C3%B3 Andorrana de Nataci%C3%B3":MAILTO:nataliameca@fan.ad
END:VEVENT
END:VCALENDAR