BEGIN:VCALENDAR
VERSION:2.0
PRODID:-//FEDERACIÓ ANDORRANA DE NATACIÓ - ECPv6.15.11//NONSGML v1.0//EN
CALSCALE:GREGORIAN
METHOD:PUBLISH
X-WR-CALNAME:FEDERACIÓ ANDORRANA DE NATACIÓ
X-ORIGINAL-URL:https://fan.ad
X-WR-CALDESC:Esdeveniments per FEDERACIÓ ANDORRANA DE NATACIÓ
REFRESH-INTERVAL;VALUE=DURATION:PT1H
X-Robots-Tag:noindex
X-PUBLISHED-TTL:PT1H
BEGIN:VTIMEZONE
TZID:UTC
BEGIN:STANDARD
TZOFFSETFROM:+0000
TZOFFSETTO:+0000
TZNAME:UTC
DTSTART:20240101T000000
END:STANDARD
END:VTIMEZONE
BEGIN:VEVENT
DTSTART;TZID=UTC:20250518T100000
DTEND;TZID=UTC:20250518T130000
DTSTAMP:20260421T151937
CREATED:20250608T205141Z
LAST-MODIFIED:20250609T144638Z
UID:8142-1747562400-1747573200@fan.ad
SUMMARY:XXV Trofeu CANÒLICH de Natació
DESCRIPTION:18/05/2025Piscina LAUesport- Sant Julià de Lòria\nNORMATIVA\nSERIES\nHORARIS
URL:https://fan.ad/event/xxv-trofeu-canolich-de-natacio/
CATEGORIES:Natació
ATTACH;FMTTYPE=image/jpeg:https://fan.ad/wp-content/uploads/2025/06/XXV-TROFEU-CANOLICH-NATACIO-CARTELL_OK-uII0mb.jpg
END:VEVENT
END:VCALENDAR