BEGIN:VCALENDAR
VERSION:2.0
PRODID:-//FEDERACIÓ ANDORRANA DE NATACIÓ - ECPv6.15.11//NONSGML v1.0//EN
CALSCALE:GREGORIAN
METHOD:PUBLISH
X-WR-CALNAME:FEDERACIÓ ANDORRANA DE NATACIÓ
X-ORIGINAL-URL:https://fan.ad
X-WR-CALDESC:Esdeveniments per FEDERACIÓ ANDORRANA DE NATACIÓ
REFRESH-INTERVAL;VALUE=DURATION:PT1H
X-Robots-Tag:noindex
X-PUBLISHED-TTL:PT1H
BEGIN:VTIMEZONE
TZID:UTC
BEGIN:STANDARD
TZOFFSETFROM:+0000
TZOFFSETTO:+0000
TZNAME:UTC
DTSTART:20240101T000000
END:STANDARD
END:VTIMEZONE
BEGIN:VEVENT
DTSTART;TZID=UTC:20250412T000000
DTEND;TZID=UTC:20250415T000000
DTSTAMP:20260421T165851
CREATED:20250609T132042Z
LAST-MODIFIED:20250609T132042Z
UID:8650-1744416000-1744675200@fan.ad
SUMMARY:TORNEIG HABAWABA SPAIN EASTER
DESCRIPTION:Categoria Aleví i BenjamíDATA: 12-15/04/2025\nLLOC: Piscina Sylvia Fontana- Tarragona\nCONVOCATORIA
URL:https://fan.ad/event/torneig-habawaba-spain-easter-2/
END:VEVENT
END:VCALENDAR