BEGIN:VCALENDAR
VERSION:2.0
PRODID:-//FEDERACIÓ ANDORRANA DE NATACIÓ - ECPv6.15.11//NONSGML v1.0//EN
CALSCALE:GREGORIAN
METHOD:PUBLISH
X-WR-CALNAME:FEDERACIÓ ANDORRANA DE NATACIÓ
X-ORIGINAL-URL:https://fan.ad
X-WR-CALDESC:Esdeveniments per FEDERACIÓ ANDORRANA DE NATACIÓ
REFRESH-INTERVAL;VALUE=DURATION:PT1H
X-Robots-Tag:noindex
X-PUBLISHED-TTL:PT1H
BEGIN:VTIMEZONE
TZID:UTC
BEGIN:STANDARD
TZOFFSETFROM:+0000
TZOFFSETTO:+0000
TZNAME:UTC
DTSTART:20240101T000000
END:STANDARD
END:VTIMEZONE
BEGIN:VEVENT
DTSTART;TZID=UTC:20250411T180000
DTEND;TZID=UTC:20250411T200000
DTSTAMP:20260421T165810
CREATED:20250609T132214Z
LAST-MODIFIED:20250609T132214Z
UID:8684-1744394400-1744401600@fan.ad
SUMMARY:2ª Jornada Lliga Base Natació Artística
DESCRIPTION:Divendres 11/04/2025Piscina LAUesport \n18h45 inici competició- Escalfament 18h00 \nNORMATIVA\nLLISTAT DE SORTIDA\n 
URL:https://fan.ad/event/2a-jornada-lliga-base-natacio-artistica/
ATTACH;FMTTYPE=image/jpeg:https://fan.ad/wp-content/uploads/2025/06/2alligabaseartistica-em49r5.jpg
END:VEVENT
END:VCALENDAR